BEGIN:VCALENDAR
VERSION:2.0
PRODID:-//Anglophone School District West - ECPv6.15.20//NONSGML v1.0//EN
CALSCALE:GREGORIAN
METHOD:PUBLISH
X-ORIGINAL-URL:https://asdw.nbed.ca
X-WR-CALDESC:Events for Anglophone School District West
REFRESH-INTERVAL;VALUE=DURATION:PT1H
X-Robots-Tag:noindex
X-PUBLISHED-TTL:PT1H
BEGIN:VTIMEZONE
TZID:America/Moncton
BEGIN:DAYLIGHT
TZOFFSETFROM:-0400
TZOFFSETTO:-0300
TZNAME:ADT
DTSTART:20250309T060000
END:DAYLIGHT
BEGIN:STANDARD
TZOFFSETFROM:-0300
TZOFFSETTO:-0400
TZNAME:AST
DTSTART:20251102T050000
END:STANDARD
BEGIN:DAYLIGHT
TZOFFSETFROM:-0400
TZOFFSETTO:-0300
TZNAME:ADT
DTSTART:20260308T060000
END:DAYLIGHT
BEGIN:STANDARD
TZOFFSETFROM:-0300
TZOFFSETTO:-0400
TZNAME:AST
DTSTART:20261101T050000
END:STANDARD
BEGIN:DAYLIGHT
TZOFFSETFROM:-0400
TZOFFSETTO:-0300
TZNAME:ADT
DTSTART:20270314T060000
END:DAYLIGHT
BEGIN:STANDARD
TZOFFSETFROM:-0300
TZOFFSETTO:-0400
TZNAME:AST
DTSTART:20271107T050000
END:STANDARD
END:VTIMEZONE
BEGIN:VEVENT
DTSTART;TZID=America/Moncton:20260313T080000
DTEND;TZID=America/Moncton:20260313T170000
DTSTAMP:20260423T145826
CREATED:20250626T095854Z
LAST-MODIFIED:20250626T095857Z
UID:10000177-1773388800-1773421200@asdw.nbed.ca
SUMMARY:K-8 Full Day – Report Card Writing
DESCRIPTION:Teacher Workday\, No Classes for Students.
URL:https://asdw.nbed.ca/calendar/k-8-full-day-report-card-writing-3/
END:VEVENT
BEGIN:VEVENT
DTSTART;TZID=America/Moncton:20260330T080000
DTEND;TZID=America/Moncton:20260330T170000
DTSTAMP:20260423T145826
CREATED:20250626T102133Z
LAST-MODIFIED:20250626T102137Z
UID:10000199-1774857600-1774890000@asdw.nbed.ca
SUMMARY:Report Cards Issued\, Grades K-12
DESCRIPTION:
URL:https://asdw.nbed.ca/calendar/report-cards-issued-grades-k-12-2/
END:VEVENT
END:VCALENDAR