BEGIN:VCALENDAR
VERSION:2.0
PRODID:-//Anglophone School District West - ECPv6.15.20//NONSGML v1.0//EN
CALSCALE:GREGORIAN
METHOD:PUBLISH
X-WR-CALNAME:Anglophone School District West
X-ORIGINAL-URL:https://asdw.nbed.ca
X-WR-CALDESC:Events for Anglophone School District West
REFRESH-INTERVAL;VALUE=DURATION:PT1H
X-Robots-Tag:noindex
X-PUBLISHED-TTL:PT1H
BEGIN:VTIMEZONE
TZID:America/Moncton
BEGIN:DAYLIGHT
TZOFFSETFROM:-0400
TZOFFSETTO:-0300
TZNAME:ADT
DTSTART:20240310T060000
END:DAYLIGHT
BEGIN:STANDARD
TZOFFSETFROM:-0300
TZOFFSETTO:-0400
TZNAME:AST
DTSTART:20241103T050000
END:STANDARD
BEGIN:DAYLIGHT
TZOFFSETFROM:-0400
TZOFFSETTO:-0300
TZNAME:ADT
DTSTART:20250309T060000
END:DAYLIGHT
BEGIN:STANDARD
TZOFFSETFROM:-0300
TZOFFSETTO:-0400
TZNAME:AST
DTSTART:20251102T050000
END:STANDARD
BEGIN:DAYLIGHT
TZOFFSETFROM:-0400
TZOFFSETTO:-0300
TZNAME:ADT
DTSTART:20260308T060000
END:DAYLIGHT
BEGIN:STANDARD
TZOFFSETFROM:-0300
TZOFFSETTO:-0400
TZNAME:AST
DTSTART:20261101T050000
END:STANDARD
BEGIN:DAYLIGHT
TZOFFSETFROM:-0400
TZOFFSETTO:-0300
TZNAME:ADT
DTSTART:20270314T060000
END:DAYLIGHT
BEGIN:STANDARD
TZOFFSETFROM:-0300
TZOFFSETTO:-0400
TZNAME:AST
DTSTART:20271107T050000
END:STANDARD
END:VTIMEZONE
BEGIN:VEVENT
DTSTART;TZID=America/Moncton:20251201T080000
DTEND;TZID=America/Moncton:20251201T170000
DTSTAMP:20260423T195657
CREATED:20250626T101853Z
LAST-MODIFIED:20250626T101857Z
UID:10000196-1764576000-1764608400@asdw.nbed.ca
SUMMARY:Report Cards Issued\, Grades K-8
DESCRIPTION:
URL:https://asdw.nbed.ca/calendar/report-cards-issued-grades-k-8-2/
END:VEVENT
BEGIN:VEVENT
DTSTART;TZID=America/Moncton:20251205T080000
DTEND;TZID=America/Moncton:20251205T170000
DTSTAMP:20260423T195657
CREATED:20250626T095807Z
LAST-MODIFIED:20250626T095811Z
UID:10000176-1764921600-1764954000@asdw.nbed.ca
SUMMARY:K-8 Full Day – Parent/Teacher Interviews (½ day); School Based PL ½
DESCRIPTION:Teacher Workday\, No Classes for Students.
URL:https://asdw.nbed.ca/calendar/k-8-full-day-parent-teacher-interviews-%c2%bd-day-school-based-pl-%c2%bd/
END:VEVENT
BEGIN:VEVENT
DTSTART;TZID=America/Moncton:20251219T080000
DTEND;TZID=America/Moncton:20251219T170000
DTSTAMP:20260423T195657
CREATED:20250626T100555Z
LAST-MODIFIED:20250626T100558Z
UID:10000183-1766131200-1766163600@asdw.nbed.ca
SUMMARY:Last Day of Classes
DESCRIPTION:
URL:https://asdw.nbed.ca/calendar/last-day-of-classes-3/
END:VEVENT
BEGIN:VEVENT
DTSTART;TZID=America/Moncton:20251222T080000
DTEND;TZID=America/Moncton:20260102T170000
DTSTAMP:20260423T195657
CREATED:20250626T101244Z
LAST-MODIFIED:20250626T101248Z
UID:10000190-1766390400-1767373200@asdw.nbed.ca
SUMMARY:Winter Holidays
DESCRIPTION:Holiday for Teachers and Students.
URL:https://asdw.nbed.ca/calendar/winter-holidays/
END:VEVENT
END:VCALENDAR