BEGIN:VCALENDAR
VERSION:2.0
PRODID:-//Anglophone School District West - ECPv6.15.20//NONSGML v1.0//EN
CALSCALE:GREGORIAN
METHOD:PUBLISH
X-WR-CALNAME:Anglophone School District West
X-ORIGINAL-URL:https://asdw.nbed.ca
X-WR-CALDESC:Events for Anglophone School District West
REFRESH-INTERVAL;VALUE=DURATION:PT1H
X-Robots-Tag:noindex
X-PUBLISHED-TTL:PT1H
BEGIN:VTIMEZONE
TZID:America/Moncton
BEGIN:DAYLIGHT
TZOFFSETFROM:-0400
TZOFFSETTO:-0300
TZNAME:ADT
DTSTART:20240310T060000
END:DAYLIGHT
BEGIN:STANDARD
TZOFFSETFROM:-0300
TZOFFSETTO:-0400
TZNAME:AST
DTSTART:20241103T050000
END:STANDARD
BEGIN:DAYLIGHT
TZOFFSETFROM:-0400
TZOFFSETTO:-0300
TZNAME:ADT
DTSTART:20250309T060000
END:DAYLIGHT
BEGIN:STANDARD
TZOFFSETFROM:-0300
TZOFFSETTO:-0400
TZNAME:AST
DTSTART:20251102T050000
END:STANDARD
BEGIN:DAYLIGHT
TZOFFSETFROM:-0400
TZOFFSETTO:-0300
TZNAME:ADT
DTSTART:20260308T060000
END:DAYLIGHT
BEGIN:STANDARD
TZOFFSETFROM:-0300
TZOFFSETTO:-0400
TZNAME:AST
DTSTART:20261101T050000
END:STANDARD
END:VTIMEZONE
BEGIN:VEVENT
DTSTART;TZID=America/Moncton:20250820T080000
DTEND;TZID=America/Moncton:20250820T170000
DTSTAMP:20260424T020634
CREATED:20250609T185640Z
LAST-MODIFIED:20250609T185914Z
UID:10000165-1755676800-1755709200@asdw.nbed.ca
SUMMARY:Opening Administrators’ Meeting
DESCRIPTION:
URL:https://asdw.nbed.ca/calendar/28672/
END:VEVENT
BEGIN:VEVENT
DTSTART;TZID=America/Moncton:20250821T080000
DTEND;TZID=America/Moncton:20250821T170000
DTSTAMP:20260424T020634
CREATED:20250626T092637Z
LAST-MODIFIED:20250626T094841Z
UID:10000167-1755763200-1755795600@asdw.nbed.ca
SUMMARY:New Administrators’ Meeting
DESCRIPTION:
URL:https://asdw.nbed.ca/calendar/new-administrators-meeting-asd-w/
END:VEVENT
BEGIN:VEVENT
DTSTART;TZID=America/Moncton:20250825T080000
DTEND;TZID=America/Moncton:20250825T170000
DTSTAMP:20260424T020634
CREATED:20250626T092747Z
LAST-MODIFIED:20250626T094802Z
UID:10000168-1756108800-1756141200@asdw.nbed.ca
SUMMARY:Full Administration Day – School Based
DESCRIPTION:Teacher Workday\, No Classes for Students.
URL:https://asdw.nbed.ca/calendar/full-administration-day-school-based/
END:VEVENT
BEGIN:VEVENT
DTSTART;TZID=America/Moncton:20250826T080000
DTEND;TZID=America/Moncton:20250827T170000
DTSTAMP:20260424T020635
CREATED:20250626T095117Z
LAST-MODIFIED:20250626T095120Z
UID:10000169-1756195200-1756314000@asdw.nbed.ca
SUMMARY:NBTA Council Days
DESCRIPTION:Teacher Workday\, No Classes for Students.
URL:https://asdw.nbed.ca/calendar/nbta-council-days/
END:VEVENT
BEGIN:VEVENT
DTSTART;TZID=America/Moncton:20250828T080000
DTEND;TZID=America/Moncton:20250828T170000
DTSTAMP:20260424T020635
CREATED:20250626T095223Z
LAST-MODIFIED:20250626T095226Z
UID:10000170-1756368000-1756400400@asdw.nbed.ca
SUMMARY:EECD Professional Learning Day K-12
DESCRIPTION:Teacher Workday\, No Classes for Students.
URL:https://asdw.nbed.ca/calendar/eecd-professional-learning-day-k-12/
END:VEVENT
BEGIN:VEVENT
DTSTART;TZID=America/Moncton:20250829T080000
DTEND;TZID=America/Moncton:20250829T170000
DTSTAMP:20260424T020635
CREATED:20250626T095320Z
LAST-MODIFIED:20250626T095324Z
UID:10000171-1756454400-1756486800@asdw.nbed.ca
SUMMARY:Full Administration Day – School Based
DESCRIPTION:Teacher Workday\, No Classes for Students.
URL:https://asdw.nbed.ca/calendar/full-administration-day-school-based-2/
END:VEVENT
END:VCALENDAR