BEGIN:VCALENDAR
VERSION:2.0
PRODID:-//Anglophone School District West - ECPv6.15.20//NONSGML v1.0//EN
CALSCALE:GREGORIAN
METHOD:PUBLISH
X-ORIGINAL-URL:https://asdw.nbed.ca
X-WR-CALDESC:Events for Anglophone School District West
REFRESH-INTERVAL;VALUE=DURATION:PT1H
X-Robots-Tag:noindex
X-PUBLISHED-TTL:PT1H
BEGIN:VTIMEZONE
TZID:America/Moncton
BEGIN:DAYLIGHT
TZOFFSETFROM:-0400
TZOFFSETTO:-0300
TZNAME:ADT
DTSTART:20210314T060000
END:DAYLIGHT
BEGIN:STANDARD
TZOFFSETFROM:-0300
TZOFFSETTO:-0400
TZNAME:AST
DTSTART:20211107T050000
END:STANDARD
BEGIN:DAYLIGHT
TZOFFSETFROM:-0400
TZOFFSETTO:-0300
TZNAME:ADT
DTSTART:20220313T060000
END:DAYLIGHT
BEGIN:STANDARD
TZOFFSETFROM:-0300
TZOFFSETTO:-0400
TZNAME:AST
DTSTART:20221106T050000
END:STANDARD
BEGIN:DAYLIGHT
TZOFFSETFROM:-0400
TZOFFSETTO:-0300
TZNAME:ADT
DTSTART:20230312T060000
END:DAYLIGHT
BEGIN:STANDARD
TZOFFSETFROM:-0300
TZOFFSETTO:-0400
TZNAME:AST
DTSTART:20231105T050000
END:STANDARD
END:VTIMEZONE
BEGIN:VEVENT
DTSTART;TZID=America/Moncton:20220624T000000
DTEND;TZID=America/Moncton:20220624T235959
DTSTAMP:20260424T101714
CREATED:20220414T140559Z
LAST-MODIFIED:20220623T191032Z
UID:10000041-1656028800-1656115199@asdw.nbed.ca
SUMMARY:Full Administration Day
DESCRIPTION:
URL:https://asdw.nbed.ca/calendar/full-administration-day/
END:VEVENT
BEGIN:VEVENT
DTSTART;TZID=America/Moncton:20220624T000000
DTEND;TZID=America/Moncton:20220624T235959
DTSTAMP:20260424T101714
CREATED:20220414T140406Z
LAST-MODIFIED:20220414T140410Z
UID:10000039-1656028800-1656115199@asdw.nbed.ca
SUMMARY:Last Day for Students – Final Report Card Day (K-12)
DESCRIPTION:
URL:https://asdw.nbed.ca/calendar/last-day-for-students-final-report-card-day-k-12/
END:VEVENT
BEGIN:VEVENT
DTSTART;TZID=America/Moncton:20220613T000000
DTEND;TZID=America/Moncton:20220624T235959
DTSTAMP:20260424T101714
CREATED:20220414T140318Z
LAST-MODIFIED:20220414T140320Z
UID:10000038-1655078400-1656115199@asdw.nbed.ca
SUMMARY:Learning Outcomes Course Recovery Week (High School)
DESCRIPTION:
URL:https://asdw.nbed.ca/calendar/learning-outcomes-course-recovery-week-high-school/
END:VEVENT
BEGIN:VEVENT
DTSTART;TZID=America/Moncton:20220613T000000
DTEND;TZID=America/Moncton:20220617T235959
DTSTAMP:20260424T101714
CREATED:20220414T140228Z
LAST-MODIFIED:20220414T140232Z
UID:10000037-1655078400-1655510399@asdw.nbed.ca
SUMMARY:Assessment/Demonstration of Learning Week (High School)
DESCRIPTION:
URL:https://asdw.nbed.ca/calendar/assessment-demonstration-of-learning-week-high-school/
END:VEVENT
BEGIN:VEVENT
DTSTART;TZID=America/Moncton:20220519T183000
DTEND;TZID=America/Moncton:20220519T210000
DTSTAMP:20260424T101714
CREATED:20220414T141531Z
LAST-MODIFIED:20220414T141537Z
UID:10000042-1652985000-1652994000@asdw.nbed.ca
SUMMARY:Public DEC Meeting
DESCRIPTION:
URL:https://asdw.nbed.ca/calendar/public-dec-meeting-2/
END:VEVENT
BEGIN:VEVENT
DTSTART;TZID=America/Moncton:20220428T183000
DTEND;TZID=America/Moncton:20220428T210000
DTSTAMP:20260424T101714
CREATED:20220408T120553Z
LAST-MODIFIED:20220408T120556Z
UID:10000036-1651170600-1651179600@asdw.nbed.ca
SUMMARY:Public DEC Meeting
DESCRIPTION:
URL:https://asdw.nbed.ca/calendar/public-dec-meeting/
END:VEVENT
BEGIN:VEVENT
DTSTART;TZID=America/Moncton:20220414T000000
DTEND;TZID=America/Moncton:20220414T235959
DTSTAMP:20260424T101714
CREATED:20220414T140457Z
LAST-MODIFIED:20220414T140501Z
UID:10000040-1649894400-1649980799@asdw.nbed.ca
SUMMARY:Victoria Day (Holiday for Teachers and Students)
DESCRIPTION:
URL:https://asdw.nbed.ca/calendar/victoria-day-holiday-for-teachers-and-students/
END:VEVENT
END:VCALENDAR