BEGIN:VCALENDAR
VERSION:2.0
PRODID:-//Anglophone School District West - ECPv6.15.20//NONSGML v1.0//EN
CALSCALE:GREGORIAN
METHOD:PUBLISH
X-ORIGINAL-URL:https://asdw.nbed.ca
X-WR-CALDESC:Events for Anglophone School District West
REFRESH-INTERVAL;VALUE=DURATION:PT1H
X-Robots-Tag:noindex
X-PUBLISHED-TTL:PT1H
BEGIN:VTIMEZONE
TZID:America/Moncton
BEGIN:DAYLIGHT
TZOFFSETFROM:-0400
TZOFFSETTO:-0300
TZNAME:ADT
DTSTART:20250309T060000
END:DAYLIGHT
BEGIN:STANDARD
TZOFFSETFROM:-0300
TZOFFSETTO:-0400
TZNAME:AST
DTSTART:20251102T050000
END:STANDARD
BEGIN:DAYLIGHT
TZOFFSETFROM:-0400
TZOFFSETTO:-0300
TZNAME:ADT
DTSTART:20260308T060000
END:DAYLIGHT
BEGIN:STANDARD
TZOFFSETFROM:-0300
TZOFFSETTO:-0400
TZNAME:AST
DTSTART:20261101T050000
END:STANDARD
BEGIN:DAYLIGHT
TZOFFSETFROM:-0400
TZOFFSETTO:-0300
TZNAME:ADT
DTSTART:20270314T060000
END:DAYLIGHT
BEGIN:STANDARD
TZOFFSETFROM:-0300
TZOFFSETTO:-0400
TZNAME:AST
DTSTART:20271107T050000
END:STANDARD
END:VTIMEZONE
BEGIN:VEVENT
DTSTART;TZID=America/Moncton:20260501T080000
DTEND;TZID=America/Moncton:20260501T170000
DTSTAMP:20260423T163608
CREATED:20250626T100013Z
LAST-MODIFIED:20250626T100017Z
UID:10000179-1777622400-1777654800@asdw.nbed.ca
SUMMARY:Council Day
DESCRIPTION:Teacher Workday\, No Classes for Students.
URL:https://asdw.nbed.ca/calendar/council-day-4/
END:VEVENT
BEGIN:VEVENT
DTSTART;TZID=America/Moncton:20260511T080000
DTEND;TZID=America/Moncton:20260511T170000
DTSTAMP:20260423T163608
CREATED:20250626T100054Z
LAST-MODIFIED:20250626T100057Z
UID:10000180-1778486400-1778518800@asdw.nbed.ca
SUMMARY:NBTA Branch Day
DESCRIPTION:Teacher Workday\, No Classes for Students.
URL:https://asdw.nbed.ca/calendar/nbta-branch-day/
END:VEVENT
BEGIN:VEVENT
DTSTART;TZID=America/Moncton:20260518T080000
DTEND;TZID=America/Moncton:20260518T170000
DTSTAMP:20260423T163608
CREATED:20250626T101555Z
LAST-MODIFIED:20250626T101559Z
UID:10000193-1779091200-1779123600@asdw.nbed.ca
SUMMARY:Victoria Day
DESCRIPTION:Holiday for Teachers and Students.
URL:https://asdw.nbed.ca/calendar/victoria-day-4/
END:VEVENT
BEGIN:VEVENT
DTSTART;TZID=America/Moncton:20260612T080000
DTEND;TZID=America/Moncton:20260612T170000
DTSTAMP:20260423T163608
CREATED:20250626T102227Z
LAST-MODIFIED:20250626T102230Z
UID:10000200-1781251200-1781283600@asdw.nbed.ca
SUMMARY:Last day of Second Semester Classes – High School
DESCRIPTION:
URL:https://asdw.nbed.ca/calendar/last-day-of-second-semester-classes-high-school/
END:VEVENT
BEGIN:VEVENT
DTSTART;TZID=America/Moncton:20260619T080000
DTEND;TZID=America/Moncton:20260619T170000
DTSTAMP:20260423T163608
CREATED:20250626T100706Z
LAST-MODIFIED:20250626T100709Z
UID:10000185-1781856000-1781888400@asdw.nbed.ca
SUMMARY:Last Day for Students – Final Report Card Day (K-12)
DESCRIPTION:
URL:https://asdw.nbed.ca/calendar/last-day-for-students-final-report-card-day-k-12-2/
END:VEVENT
BEGIN:VEVENT
DTSTART;TZID=America/Moncton:20260622T080000
DTEND;TZID=America/Moncton:20260624T170000
DTSTAMP:20260423T163608
CREATED:20250626T100140Z
LAST-MODIFIED:20250626T100144Z
UID:10000181-1782115200-1782320400@asdw.nbed.ca
SUMMARY:Full Administration Days
DESCRIPTION:Teacher Workday\, No Classes for Students.
URL:https://asdw.nbed.ca/calendar/full-administration-days/
END:VEVENT
END:VCALENDAR